BEGIN:VCALENDAR
VERSION:2.0
PRODID:-//American Solar Grazing Association - ECPv6.15.20//NONSGML v1.0//EN
CALSCALE:GREGORIAN
METHOD:PUBLISH
X-ORIGINAL-URL:https://solargrazing.org
X-WR-CALDESC:Events for American Solar Grazing Association
REFRESH-INTERVAL;VALUE=DURATION:PT1H
X-Robots-Tag:noindex
X-PUBLISHED-TTL:PT1H
BEGIN:VTIMEZONE
TZID:America/New_York
BEGIN:DAYLIGHT
TZOFFSETFROM:-0500
TZOFFSETTO:-0400
TZNAME:EDT
DTSTART:20240310T070000
END:DAYLIGHT
BEGIN:STANDARD
TZOFFSETFROM:-0400
TZOFFSETTO:-0500
TZNAME:EST
DTSTART:20241103T060000
END:STANDARD
BEGIN:DAYLIGHT
TZOFFSETFROM:-0500
TZOFFSETTO:-0400
TZNAME:EDT
DTSTART:20250309T070000
END:DAYLIGHT
BEGIN:STANDARD
TZOFFSETFROM:-0400
TZOFFSETTO:-0500
TZNAME:EST
DTSTART:20251102T060000
END:STANDARD
BEGIN:DAYLIGHT
TZOFFSETFROM:-0500
TZOFFSETTO:-0400
TZNAME:EDT
DTSTART:20260308T070000
END:DAYLIGHT
BEGIN:STANDARD
TZOFFSETFROM:-0400
TZOFFSETTO:-0500
TZNAME:EST
DTSTART:20261101T060000
END:STANDARD
END:VTIMEZONE
BEGIN:VEVENT
DTSTART;TZID=America/New_York:20251029T000000
DTEND;TZID=America/New_York:20251030T235959
DTSTAMP:20260423T060508
CREATED:20250502T203830Z
LAST-MODIFIED:20250814T195042Z
UID:7644-1761696000-1761868799@solargrazing.org
SUMMARY:ACP Peak: Performance\, Modeling & Assessment Conference
DESCRIPTION:The ACP PEAK: Performance\, Modeling & Assessment Conference focuses on topics related to clean energy project performance\, the optimization of energy resources\, data tracking\, and increasing the accuracy of energy assessments\, all in the context of modeling and practical innovations to improve project returns for all stakeholders. The conference also includes the technology-side impact to modeling practices for solar\, wind and storage projects. \n\n\n\nAs ACP and the industry have evolved\, it was time to level-up the name of this event to accurately represents the scope and audience present. ACP PEAK: Performance\, Modeling & Assessment Conference makes our purpose and scope abundantly clear to our current and prospective audiences. \n\n\n\nPEAK symbolizes the ultimate goal of this event conference- ACP PEAK is where the industry comes together to share tactics and strategies that will help clean energy projects reach peak performance and optimal efficiency through pre- and post-construction modeling and analysis. \n\n\n\nAustin Marriott Downtown 304 E Cesar Chavez StAustin\, TXUnited States \n\n\n\nLearn more: https://cleanpower.org/peak/ \n\n\n\n\nEvent Page
URL:https://solargrazing.org/event/acp-peak-performance-modeling-assessment-conference/
CATEGORIES:External
ATTACH;FMTTYPE=image/jpeg:https://solargrazing.org/wp-content/uploads/2025/05/PEAK_WebLogoC-01-01.jpg
END:VEVENT
BEGIN:VEVENT
DTSTART;TZID=America/New_York:20251029T000000
DTEND;TZID=America/New_York:20251101T235959
DTSTAMP:20260423T060508
CREATED:20251002T165538Z
LAST-MODIFIED:20251002T165540Z
UID:8477-1761696000-1762041599@solargrazing.org
SUMMARY:98th National FFA Convention & Expo
DESCRIPTION:The National FFA Convention & Expo is all about growing the next generation of leaders. No matter where you are in FFA\, you’ll find inspiration and direction to become a leader and influencer\, ready to make an impact. During this event\, find out who you are\, who you want to become and how you can change how the world grows. \n\n\n\nIndiana Convention Center 100 S Capitol AveIndianapolis\, INUnited States \n\n\n\nLearn more: https://convention.ffa.org/ \n\n\n\n\nRSVP
URL:https://solargrazing.org/event/98th-national-ffa-convention-expo/
ATTACH;FMTTYPE=image/png:https://solargrazing.org/wp-content/uploads/2025/10/FFS98thConventionLogo.png
END:VEVENT
BEGIN:VEVENT
DTSTART;TZID=America/New_York:20251029T120000
DTEND;TZID=America/New_York:20251029T130000
DTSTAMP:20260423T060509
CREATED:20251001T215239Z
LAST-MODIFIED:20251001T215241Z
UID:8471-1761739200-1761742800@solargrazing.org
SUMMARY:Agrivoltaics - The SCAPES Project Webinar
DESCRIPTION:Agrivoltaics is the co-location of agricultural production at photovoltaic energy facilities. This webinar highlights the cutting edge research practices being led by the Institute for Sustainability\, Energy\, and Environment (iSEE) at the University of Illinois Urbana-Champaign. The Sustainably Colocating Agricultural and Photovoltaic Electricity Systems or SCAPES project is studying the economics\, engineering\, and crop productivity of agrivoltaic practices. Through research occurring on campus the team is learning about crop compatibility with solar energy production. \n\n\n\nLearn more: https://uic.zoom.us/webinar/register/WN_2hKi1w09RlWXOKSvleMKAg#/registration \n\n\n\n\nRSVP
URL:https://solargrazing.org/event/agrivoltaics-the-scapes-project-webinar/
CATEGORIES:External
ATTACH;FMTTYPE=image/png:https://solargrazing.org/wp-content/uploads/2025/10/SCAPES-webinar.png
END:VEVENT
END:VCALENDAR